BEGIN:VCALENDAR
BEGIN:VEVENT
DESCRIPTION:\nMore Information: https://shop.brynmawrfilm.org/websales/pages/TicketSearchCriteria.aspx?evtInfo=378615~4ce679c9-07d6-41cd-900f-5c68c71a8d58&\n\n
DTSTART:20230326T194500Z
DTEND:20230326T220500Z
LOCATION:THEATER 4, 824 W. Lancaster Avenue, BRYN MAWR, PA, 19010
SUMMARY:Everything Everywhere All at Once
UID:378615
DTSTAMP:20260422T024515Z
END:VEVENT
END:VCALENDAR
