BEGIN:VCALENDAR
BEGIN:VEVENT
DESCRIPTION:\nMore Information: https://shop.brynmawrfilm.org/websales/pages/TicketSearchCriteria.aspx?evtInfo=379767~4ce679c9-07d6-41cd-900f-5c68c71a8d58&\n\n
DTSTART:20230401T171500Z
DTEND:20230401T191200Z
LOCATION:THEATER 1, 824 W. Lancaster Avenue, BRYN MAWR, PA, 19010
SUMMARY:A Thousand and One
UID:379767
DTSTAMP:20260424T213137Z
END:VEVENT
END:VCALENDAR
