BEGIN:VCALENDAR
BEGIN:VEVENT
DESCRIPTION:\nMore Information: https://shop.brynmawrfilm.org/websales/pages/TicketSearchCriteria.aspx?evtInfo=379777~4ce679c9-07d6-41cd-900f-5c68c71a8d58&\n\n
DTSTART:20230401T234500Z
DTEND:20230402T014000Z
LOCATION:THEATER 4, 824 W. Lancaster Avenue, BRYN MAWR, PA, 19010
SUMMARY:Return to Seoul
UID:379777
DTSTAMP:20260423T203603Z
END:VEVENT
END:VCALENDAR
