BEGIN:VCALENDAR
BEGIN:VEVENT
DESCRIPTION:\nMore Information: https://shop.brynmawrfilm.org/websales/pages/TicketSearchCriteria.aspx?evtInfo=396488~4ce679c9-07d6-41cd-900f-5c68c71a8d58&\n\n
DTSTART:20231017T231500Z
DTEND:20231018T004100Z
LOCATION:THEATER 3, 824 W. Lancaster Avenue, BRYN MAWR, PA, 19010
SUMMARY:Brief Encounter
UID:396488
DTSTAMP:20260423T082445Z
END:VEVENT
END:VCALENDAR
