BEGIN:VCALENDAR
BEGIN:VEVENT
DESCRIPTION:\nMore Information: https://shop.brynmawrfilm.org/websales/pages/TicketSearchCriteria.aspx?evtInfo=404076~4ce679c9-07d6-41cd-900f-5c68c71a8d58&\n\n
DTSTART:20231001T174500Z
DTEND:20231001T191200Z
LOCATION:THEATER 4, 824 W. Lancaster Avenue, BRYN MAWR, PA, 19010
SUMMARY:Stop Making Sense
UID:404076
DTSTAMP:20260422T125549Z
END:VEVENT
END:VCALENDAR
