BEGIN:VCALENDAR
BEGIN:VEVENT
DESCRIPTION:\nMore Information: https://shop.brynmawrfilm.org/websales/pages/TicketSearchCriteria.aspx?evtInfo=540918~4ce679c9-07d6-41cd-900f-5c68c71a8d58&\n\n
DTSTART:20260401T230000Z
DTEND:20260402T012000Z
LOCATION:THEATER 3, 824 W. Lancaster Avenue, BRYN MAWR, PA, 19010
SUMMARY:Strange Truth: Nickel Boys with RaMell Ross
UID:540918
DTSTAMP:20260421T050453Z
END:VEVENT
END:VCALENDAR
