BEGIN:VCALENDAR
BEGIN:VEVENT
DESCRIPTION:\nMore Information: https://shop.brynmawrfilm.org/websales/pages/TicketSearchCriteria.aspx?evtInfo=546767~4ce679c9-07d6-41cd-900f-5c68c71a8d58&\n\n
DTSTART:20260306T180000Z
DTEND:20260306T201600Z
LOCATION:THEATER 2, 824 W. Lancaster Avenue, BRYN MAWR, PA, 19010
SUMMARY:Wuthering Heights
UID:546767
DTSTAMP:20260421T050453Z
END:VEVENT
END:VCALENDAR
