BEGIN:VCALENDAR
BEGIN:VEVENT
DESCRIPTION:\nMore Information: https://shop.brynmawrfilm.org/websales/pages/TicketSearchCriteria.aspx?evtInfo=546815~4ce679c9-07d6-41cd-900f-5c68c71a8d58&\n\n
DTSTART:20260306T210000Z
DTEND:20260306T223300Z
LOCATION:THEATER 4, 824 W. Lancaster Avenue, BRYN MAWR, PA, 19010
SUMMARY:Midwinter Break
UID:546815
DTSTAMP:20260421T033423Z
END:VEVENT
END:VCALENDAR
