BEGIN:VCALENDAR
BEGIN:VEVENT
DESCRIPTION:\nMore Information: https://shop.brynmawrfilm.org/websales/pages/TicketSearchCriteria.aspx?evtInfo=553271~4ce679c9-07d6-41cd-900f-5c68c71a8d58&\n\n
DTSTART:20260419T231500Z
DTEND:20260420T010100Z
LOCATION:THEATER 3, 824 W. Lancaster Avenue, BRYN MAWR, PA, 19010
SUMMARY:The Drama
UID:553271
DTSTAMP:20260419T210614Z
END:VEVENT
END:VCALENDAR
