BEGIN:VCALENDAR
BEGIN:VEVENT
DESCRIPTION:\nMore Information: https://shop.brynmawrfilm.org/websales/pages/TicketSearchCriteria.aspx?evtInfo=553288~4ce679c9-07d6-41cd-900f-5c68c71a8d58&\n\n
DTSTART:20260421T171500Z
DTEND:20260421T184100Z
LOCATION:THEATER 2, 824 W. Lancaster Avenue, BRYN MAWR, PA, 19010
SUMMARY:Miroirs NO. 3
UID:553288
DTSTAMP:20260421T072411Z
END:VEVENT
END:VCALENDAR
