BEGIN:VCALENDAR
BEGIN:VEVENT
DESCRIPTION:\nMore Information: https://shop.brynmawrfilm.org/websales/pages/TicketSearchCriteria.aspx?evtInfo=553293~4ce679c9-07d6-41cd-900f-5c68c71a8d58&\n\nThis is an open-caption screening. Captions that display audio information and dialogue will remain visible on the screen for the duration of the film.
DTSTART:20260421T170000Z
DTEND:20260421T184600Z
LOCATION:THEATER 4, 824 W. Lancaster Avenue, BRYN MAWR, PA, 19010
SUMMARY:The Drama
UID:553293
DTSTAMP:20260421T071029Z
END:VEVENT
END:VCALENDAR
