BEGIN:VCALENDAR
BEGIN:VEVENT
DESCRIPTION:\nMore Information: https://shop.brynmawrfilm.org/websales/pages/TicketSearchCriteria.aspx?evtInfo=553299~4ce679c9-07d6-41cd-900f-5c68c71a8d58&\n\n
DTSTART:20260422T163000Z
DTEND:20260422T190600Z
LOCATION:THEATER 2, 824 W. Lancaster Avenue, BRYN MAWR, PA, 19010
SUMMARY:Project Hail Mary
UID:553299
DTSTAMP:20260422T092040Z
END:VEVENT
END:VCALENDAR
