BEGIN:VCALENDAR
BEGIN:VEVENT
DESCRIPTION:\nMore Information: https://shop.brynmawrfilm.org/websales/pages/TicketSearchCriteria.aspx?evtInfo=553306~4ce679c9-07d6-41cd-900f-5c68c71a8d58&\n\n
DTSTART:20260422T233000Z
DTEND:20260423T005600Z
LOCATION:THEATER 4, 824 W. Lancaster Avenue, BRYN MAWR, PA, 19010
SUMMARY:Miroirs NO. 3
UID:553306
DTSTAMP:20260422T091742Z
END:VEVENT
END:VCALENDAR
