BEGIN:VCALENDAR
BEGIN:VEVENT
DESCRIPTION:\nMore Information: https://shop.brynmawrfilm.org/websales/pages/TicketSearchCriteria.aspx?evtInfo=553310~4ce679c9-07d6-41cd-900f-5c68c71a8d58&\n\n
DTSTART:20260423T233000Z
DTEND:20260424T020600Z
LOCATION:THEATER 2, 824 W. Lancaster Avenue, BRYN MAWR, PA, 19010
SUMMARY:Project Hail Mary
UID:553310
DTSTAMP:20260423T093236Z
END:VEVENT
END:VCALENDAR
