BEGIN:VCALENDAR
BEGIN:VEVENT
DESCRIPTION:\nMore Information: https://shop.brynmawrfilm.org/websales/pages/TicketSearchCriteria.aspx?evtInfo=554304~4ce679c9-07d6-41cd-900f-5c68c71a8d58&\n\n
DTSTART:20260422T171500Z
DTEND:20260422T184100Z
LOCATION:THEATER 4, 824 W. Lancaster Avenue, BRYN MAWR, PA, 19010
SUMMARY:Miroirs NO. 3
UID:554304
DTSTAMP:20260422T091326Z
END:VEVENT
END:VCALENDAR
