BEGIN:VCALENDAR
BEGIN:VEVENT
DESCRIPTION:\nMore Information: https://shop.brynmawrfilm.org/websales/pages/TicketSearchCriteria.aspx?evtInfo=554592~4ce679c9-07d6-41cd-900f-5c68c71a8d58&\n\nThis is an open-caption screening. Captions that display audio information and dialogue will remain visible on the screen for the duration of the film.
DTSTART:20260426T233000Z
DTEND:20260427T013700Z
LOCATION:THEATER 1, 824 W. Lancaster Avenue, BRYN MAWR, PA, 19010
SUMMARY:Michael
UID:554592
DTSTAMP:20260420T200631Z
END:VEVENT
END:VCALENDAR
