BEGIN:VCALENDAR
BEGIN:VEVENT
DESCRIPTION:\nMore Information: https://shop.brynmawrfilm.org/websales/pages/TicketSearchCriteria.aspx?evtInfo=554603~4ce679c9-07d6-41cd-900f-5c68c71a8d58&\n\n
DTSTART:20260430T233000Z
DTEND:20260501T013700Z
LOCATION:THEATER 1, 824 W. Lancaster Avenue, BRYN MAWR, PA, 19010
SUMMARY:Michael
UID:554603
DTSTAMP:20260420T201035Z
END:VEVENT
END:VCALENDAR
