BEGIN:VCALENDAR
BEGIN:VEVENT
DESCRIPTION:\nMore Information: https://shop.brynmawrfilm.org/websales/pages/TicketSearchCriteria.aspx?evtInfo=554660~4ce679c9-07d6-41cd-900f-5c68c71a8d58&\n\n
DTSTART:20260501T201500Z
DTEND:20260501T221500Z
LOCATION:THEATER 1, 824 W. Lancaster Avenue, BRYN MAWR, PA, 19010
SUMMARY:The Devil Wears Prada 2
UID:554660
DTSTAMP:20260420T202741Z
END:VEVENT
END:VCALENDAR
