BEGIN:VCALENDAR
BEGIN:VEVENT
DESCRIPTION:\nMore Information: https://shop.brynmawrfilm.org/websales/pages/TicketSearchCriteria.aspx?evtInfo=554663~4ce679c9-07d6-41cd-900f-5c68c71a8d58&\n\n
DTSTART:20260502T201500Z
DTEND:20260502T221500Z
LOCATION:THEATER 1, 824 W. Lancaster Avenue, BRYN MAWR, PA, 19010
SUMMARY:The Devil Wears Prada 2
UID:554663
DTSTAMP:20260420T201930Z
END:VEVENT
END:VCALENDAR
