BEGIN:VCALENDAR
BEGIN:VEVENT
DESCRIPTION:\nMore Information: https://shop.brynmawrfilm.org/websales/pages/TicketSearchCriteria.aspx?evtInfo=554672~4ce679c9-07d6-41cd-900f-5c68c71a8d58&\n\n
DTSTART:20260505T200000Z
DTEND:20260505T220000Z
LOCATION:THEATER 1, 824 W. Lancaster Avenue, BRYN MAWR, PA, 19010
SUMMARY:The Devil Wears Prada 2
UID:554672
DTSTAMP:20260420T202620Z
END:VEVENT
END:VCALENDAR
