BEGIN:VCALENDAR
BEGIN:VEVENT
DESCRIPTION:\nMore Information: https://shop.brynmawrfilm.org/websales/pages/TicketSearchCriteria.aspx?evtInfo=554675~4ce679c9-07d6-41cd-900f-5c68c71a8d58&\n\n
DTSTART:20260506T200000Z
DTEND:20260506T220000Z
LOCATION:THEATER 1, 824 W. Lancaster Avenue, BRYN MAWR, PA, 19010
SUMMARY:The Devil Wears Prada 2
UID:554675
DTSTAMP:20260420T201647Z
END:VEVENT
END:VCALENDAR
